View In:
ArcGIS JavaScript
ArcGIS Online map viewer
Google Earth
ArcMap
View Footprint In:
ArcGIS Online map viewer
Service Description: radar_2018
Name: radar_2018
Description: radar_2018
Single Fused Map Cache: false
Extent:
XMin: -1295953.9420729403
YMin: 3731863.2699718187
XMax: 622828.6522224382
YMax: 5706192.840421509
Spatial Reference: 102100
(3857)
Initial Extent:
XMin: -1295953.9420729403
YMin: 3731863.2699718187
XMax: 622828.6522224382
YMax: 5706192.840421509
Spatial Reference: 102100
(3857)
Full Extent:
XMin: -1295953.9420729403
YMin: 3731863.2699718187
XMax: 622828.6522224382
YMax: 5706192.840421509
Spatial Reference: 102100
(3857)
Time Info:
Start Time Field: HORA
End Time Field: HORA
Time Extent:
[2012/01/01 00:00:00 UTC, 2012/01/01 23:30:00 UTC]
Time Reference:
N/A
Pixel Size X: 3822.2760842537423
Pixel Size Y: 3739.2605500941104
Band Count: 3
Pixel Type: U8
RasterFunction Infos: {"name":"None","description":"Una función No-Op.","help":""}
Mensuration Capabilities: None
Has Histograms: false
Has Colormap: false
Has Multi Dimensions : false
Rendering Rule:
Min Scale: 0
Max Scale: 0
Copyright Text:
Service Data Type: esriImageServiceDataTypeRGB
Min Values: N/A
Max Values: N/A
Mean Values: N/A
Standard Deviation Values: N/A
Object ID Field: OBJECTID
Fields:
-
OBJECTID
(
type: esriFieldTypeOID
, alias: OBJECTID
)
-
Shape
(
type: esriFieldTypeGeometry
, alias: Shape
)
-
Name
(
type: esriFieldTypeString
, alias: Name
, length: 256
)
-
Shape_Length
(
type: esriFieldTypeDouble
, alias: Shape_Length
)
-
Shape_Area
(
type: esriFieldTypeDouble
, alias: Shape_Area
)
-
HORA
(
type: esriFieldTypeString
, alias: HORA
, length: 50
)
Default Mosaic Method: Northwest
Allowed Mosaic Methods: NorthWest,Center,LockRaster,ByAttribute,Nadir,Viewpoint,Seamline,None
SortField:
SortValue: null
Mosaic Operator: First
Default Compression Quality: 75
Default Resampling Method: Nearest
Max Record Count: 1000
Max Image Height: 4100
Max Image Width: 15000
Max Download Image Count: 20
Max Mosaic Image Count: 20
Allow Raster Function: true
Allow Compute TiePoints: false
Supports Statistics: true
Supports Advanced Queries: true
Use StandardizedQueries: false
Raster Type Infos:
Name: Raster Dataset
Description: Supports all ArcGIS Raster Datasets
Help:
Has Raster Attribute Table: false
Edit Fields Info: null
Ownership Based AccessControl For Rasters: null
Child Resources:
Info
Key Properties
Legend
MultiDimensionalInfo
rasterFunctionInfos
Supported Operations:
Export Image
Query
Identify
Compute Histograms
Compute Statistics Histograms
Get Samples
Compute Class Statistics